BEGIN:VCALENDAR
VERSION:2.0
PRODID:-//OmniMagnetCalendar//EN
BEGIN:VEVENT
DTSTAMP:20190625T195740Z
STATUS:CONFIRMED
UID:sfbay.illiniclub.org526
DTSTART:20220318T225000Z
DTEND:20220319T015015Z
LOCATION:Standard Deviant, 280 14th St, San Francisco, CA, 94103,
SUMMARY:JOIN BAY AREA ILLINI AT STANDARD DEVIANT FOR 1ST ROUND OF NCAA TOURNAMENT! ILLINOIS VS. CHATTANOOGA
DESCRIPTION:Join Bay Area Illini and guests for the first round of the NCAA Tournament on Friday at 3:50 PM at Standard Deviant 280 14th St, San Francisco
BEGIN:VALARM
TRIGGER:-PT15M
ACTION:DISPLAY
END:VALARM
TRANSP:OPAQUE
END:VEVENT
END:VCALENDAR
