BEGIN:VCALENDAR
VERSION:2.0
PRODID:-//OmniMagnetCalendar//EN
BEGIN:VEVENT
DTSTAMP:20190625T195740Z
STATUS:CONFIRMED
UID:sfbay.illiniclub.org528
DTSTART:20230908T233000Z
DTEND:20220319T015015Z
LOCATION:Standard Deviant, 280 14th St, San Francisco, CA, 94103,
SUMMARY:JOIN BAY AREA ILLINI AT STANDARD DEVIANT FOR FOOTBALL GAMEWATCH: ILLINOIS VS KANSAS
DESCRIPTION:Join Bay Area Illini and guests for this seasons first football gamewatch Friday, September 8th at 4:30 PM at Standard Deviant 280 14th St, San Francisco
BEGIN:VALARM
TRIGGER:-PT15M
ACTION:DISPLAY
END:VALARM
TRANSP:OPAQUE
END:VEVENT
END:VCALENDAR
