BEGIN:VCALENDAR
VERSION:2.0
PRODID:-//OmniMagnetCalendar//EN
BEGIN:VEVENT
DTSTAMP:20190625T195740Z
STATUS:CONFIRMED
UID:sfbay.illiniclub.org535
DTSTART:20231223T020000Z
DTEND:
LOCATION:Standard Deviant, 280 14th St, San Francisco, CA, 94103,
SUMMARY:JOIN BAY AREA ILLINI AT STANDARD DEVIANT for BRAGGING RIGHTS GAMEWATCH: ILLINOIS VS MIZZOU
DESCRIPTION:Come watch Illinois take on Mizzou in the annual Bragging Rights Game!  We will be having an Ugly Sweater contest so wear your best ugly sweater!  **Bonus points if it is Illini themed**  We'll be having a game watch at Standard Deviant (280 14th St,
BEGIN:VALARM
TRIGGER:-PT15M
ACTION:DISPLAY
END:VALARM
TRANSP:OPAQUE
END:VEVENT
END:VCALENDAR
