BEGIN:VCALENDAR
VERSION:2.0
PRODID:-//OmniMagnetCalendar//EN
BEGIN:VEVENT
DTSTAMP:20190625T195740Z
STATUS:CONFIRMED
UID:sfbay.illiniclub.org539
DTSTART:20240106T013000Z
DTEND:
LOCATION:Nickie's, 466 Haight St, San Francisco, CA, 94103,
SUMMARY:JOIN BAY AREA ILLINI AND BOILERMAKERS AT NICKIE's FOR ILLINOIS VS. PURDUE
DESCRIPTION:JOIN BAY AREA ILLINI AND BOILERMAKERS AT NICKIE'S IN SF  Ever wanted to watch a top ten matchup in the Bay with our fellow Big Ten breathern? This is your opportunity!  We'll be having a game watch at Nickie's (466 Haight St, San Francisco, CA 94117)
BEGIN:VALARM
TRIGGER:-PT15M
ACTION:DISPLAY
END:VALARM
TRANSP:OPAQUE
END:VEVENT
END:VCALENDAR
