BEGIN:VCALENDAR
VERSION:2.0
PRODID:-//OmniMagnetCalendar//EN
BEGIN:VEVENT
DTSTAMP:20190625T195740Z
STATUS:CONFIRMED
UID:sfbay.illiniclub.org542
DTSTART:20240204T233000Z
DTEND:
LOCATION:Standard Deviant, 280 14th St, San Francisco, San Francisco, CA,
SUMMARY:JOIN BAY AREA ILLINI AT STANDARD DEVIANT FOR ILLINOIS VS. NEBRASKA
DESCRIPTION:
BEGIN:VALARM
TRIGGER:-PT15M
ACTION:DISPLAY
END:VALARM
TRANSP:OPAQUE
END:VEVENT
END:VCALENDAR
