BEGIN:VCALENDAR
VERSION:2.0
PRODID:-//OmniMagnetCalendar//EN
BEGIN:VEVENT
DTSTAMP:20190625T195740Z
STATUS:CONFIRMED
UID:sfbay.illiniclub.org544
DTSTART:20240224T191500Z
DTEND:
LOCATION:Underdogs Cantina, 128 King St, San Francisco, CA, 94107,
SUMMARY:JOIN BAY AREA ILLINI AT STANDARD DEVIANT FOR ILLINOIS VS. IOWA
DESCRIPTION:
BEGIN:VALARM
TRIGGER:-PT15M
ACTION:DISPLAY
END:VALARM
TRANSP:OPAQUE
END:VEVENT
END:VCALENDAR
