BEGIN:VCALENDAR
VERSION:2.0
PRODID:-//OmniMagnetCalendar//EN
BEGIN:VEVENT
DTSTAMP:20190625T195740Z
STATUS:CONFIRMED
UID:sfbay.illiniclub.org548
DTSTART:20240306T000000Z
DTEND:20240306T020000Z
LOCATION:Standard Deviant, 280 14th St, San Francisco, CA, 94103,
SUMMARY:JOIN BAY AREA ILLINI AT STANDARD DEVIANT FOR ILLINOIS VS. PURDUE
DESCRIPTION:
BEGIN:VALARM
TRIGGER:-PT15M
ACTION:DISPLAY
END:VALARM
TRANSP:OPAQUE
END:VEVENT
END:VCALENDAR
