BEGIN:VCALENDAR
VERSION:2.0
PRODID:-//OmniMagnetCalendar//EN
BEGIN:VEVENT
DTSTAMP:20190625T195740Z
STATUS:CONFIRMED
UID:sfbay.illiniclub.org549
DTSTART:20240314T180000Z
DTEND:20240317T230000Z
LOCATION:Golden Gate Tap Room, 449 Powell St, San Francisco, CA, 94108,
SUMMARY:JOIN BAY AREA BIG TEN SCHOOLS AT GGTR FOR THE BIG TEN TOURNEY
DESCRIPTION:
BEGIN:VALARM
TRIGGER:-PT15M
ACTION:DISPLAY
END:VALARM
TRANSP:OPAQUE
END:VEVENT
END:VCALENDAR
