BEGIN:VCALENDAR
VERSION:2.0
PRODID:-//OmniMagnetCalendar//EN
BEGIN:VEVENT
DTSTAMP:20190625T195740Z
STATUS:CONFIRMED
UID:sfbay.illiniclub.org550
DTSTART:20240406T180000Z
DTEND:20240406T200000Z
LOCATION:Edgewood Park and Natural Preserve, 2191 Edgewood Road, Emerald Hills, CA, 94062,
SUMMARY:Join Bay Area Illini for a Hike at Edgewood Park and Natural Preserve
DESCRIPTION:
BEGIN:VALARM
TRIGGER:-PT15M
ACTION:DISPLAY
END:VALARM
TRANSP:OPAQUE
END:VEVENT
END:VCALENDAR
