BEGIN:VCALENDAR
VERSION:2.0
PRODID:-//OmniMagnetCalendar//EN
BEGIN:VEVENT
DTSTAMP:20190625T195740Z
STATUS:CONFIRMED
UID:sfbay.illiniclub.org557
DTSTART:20240627T194500Z
DTEND:20240627T230000Z
LOCATION:Oracle Park, 24 Willie Mays Plaza, San Francisco, CA, 94107,
SUMMARY:Cubs vs. Giants Game with Bay Area Illini - Thurs, June 27 12:45 PM PST
DESCRIPTION:
BEGIN:VALARM
TRIGGER:-PT15M
ACTION:DISPLAY
END:VALARM
TRANSP:OPAQUE
END:VEVENT
END:VCALENDAR
