BEGIN:VCALENDAR
VERSION:2.0
PRODID:-//OmniMagnetCalendar//EN
BEGIN:VEVENT
DTSTAMP:20190625T195740Z
STATUS:CONFIRMED
UID:sfbay.illiniclub.org566
DTSTART:20241116T193000Z
DTEND:20241116T223000Z
LOCATION:Rotator, 1415 Pine St, Walnut Creek, CA, 94111,
SUMMARY:BAY AREA TOUR EAST BAY - ROTATOR WALNUT CREEK FOR ILLINOIS VS. MICHIGAN STATE
DESCRIPTION:
BEGIN:VALARM
TRIGGER:-PT15M
ACTION:DISPLAY
END:VALARM
TRANSP:OPAQUE
END:VEVENT
END:VCALENDAR
