BEGIN:VCALENDAR
VERSION:2.0
PRODID:-//OmniMagnetCalendar//EN
BEGIN:VEVENT
DTSTAMP:20190625T195740Z
STATUS:CONFIRMED
UID:sfbay.illiniclub.org567
DTSTART:20241123T170000Z
DTEND:20241123T203000Z
LOCATION:Jack's Bar, 167 E Taylor St, San Jose, CA, 95112,
SUMMARY:BAY AREA TOUR SOUTH BAY - SAN JOSE FOR ILLINOIS VS. RUTGERS
DESCRIPTION:
BEGIN:VALARM
TRIGGER:-PT15M
ACTION:DISPLAY
END:VALARM
TRANSP:OPAQUE
END:VEVENT
END:VCALENDAR
