BEGIN:VCALENDAR
VERSION:2.0
PRODID:-//OmniMagnetCalendar//EN
BEGIN:VEVENT
DTSTAMP:20190625T195740Z
STATUS:CONFIRMED
UID:sfbay.illiniclub.org572
DTSTART:20241222T180000Z
DTEND:20241222T203000Z
LOCATION:Underdogs Cantina, 128 King St, San Francisco, CA, 94107,
SUMMARY:ILLINOIS V. MISSOURI BAY AREA GAME WATCH @ UNDERDOG CANTINA
DESCRIPTION:
BEGIN:VALARM
TRIGGER:-PT15M
ACTION:DISPLAY
END:VALARM
TRANSP:OPAQUE
END:VEVENT
END:VCALENDAR
