BEGIN:VCALENDAR
VERSION:2.0
PRODID:-//OmniMagnetCalendar//EN
BEGIN:VEVENT
DTSTAMP:20190625T195740Z
STATUS:CONFIRMED
UID:sfbay.illiniclub.org584
DTSTART:20250219T013000Z
DTEND:20250219T033000Z
LOCATION:Yard House, 300 Santana Row Suite 101, San Jose, CA, 95128,
SUMMARY:ILLINOIS V. WISCONSIN SOUTH BAY GAME WATCH WITH COLLEGE OF FINE ARTS
DESCRIPTION:
BEGIN:VALARM
TRIGGER:-PT15M
ACTION:DISPLAY
END:VALARM
TRANSP:OPAQUE
END:VEVENT
END:VCALENDAR
