BEGIN:VCALENDAR
VERSION:2.0
PRODID:-//OmniMagnetCalendar//EN
BEGIN:VEVENT
DTSTAMP:20190625T195740Z
STATUS:CONFIRMED
UID:sfbay.illiniclub.org585
DTSTART:20250302T204500Z
DTEND:20250302T233000Z
LOCATION:Splash SF, 191 Warriors Way Suite 102, San Francisco, CA, 94158,
SUMMARY:ILLINOIS V. MICHIGAN BAY AREA GAME WATCH @ SPLASH SF
DESCRIPTION:
BEGIN:VALARM
TRIGGER:-PT15M
ACTION:DISPLAY
END:VALARM
TRANSP:OPAQUE
END:VEVENT
END:VCALENDAR
