BEGIN:VCALENDAR
VERSION:2.0
PRODID:-//OmniMagnetCalendar//EN
BEGIN:VEVENT
DTSTAMP:20190625T195740Z
STATUS:CONFIRMED
UID:sfbay.illiniclub.org586
DTSTART:20250322T014500Z
DTEND:20250322T034500Z
LOCATION:Underdogs Cantina, 128 King St, San Francisco, CA, 94107,
SUMMARY:NCAA TOURNEY - ILLINOIS V. TEXAS/XAVIER BAY AREA GAME WATCH @ UNDERDOGS CANTINA
DESCRIPTION:
BEGIN:VALARM
TRIGGER:-PT15M
ACTION:DISPLAY
END:VALARM
TRANSP:OPAQUE
END:VEVENT
END:VCALENDAR
