BEGIN:VCALENDAR
VERSION:2.0
PRODID:-//OmniMagnetCalendar//EN
BEGIN:VEVENT
DTSTAMP:20190625T195740Z
STATUS:CONFIRMED
UID:sfbay.illiniclub.org590
DTSTART:20250817T173000Z
DTEND:20250817T193000Z
LOCATION:Rancho San Antonio Preserve (Cupertino) - Deer Hollow Farm Loop, 22500 Cristo Rey Dr, Cupertino, CA, 95014,
SUMMARY:(Updated) South Bay Hike - Rancho San Antonio Preserve (Cupertino) - Deer Hollow Farm Loop
DESCRIPTION:
BEGIN:VALARM
TRIGGER:-PT15M
ACTION:DISPLAY
END:VALARM
TRANSP:OPAQUE
END:VEVENT
END:VCALENDAR
