BEGIN:VCALENDAR
VERSION:2.0
PRODID:-//OmniMagnetCalendar//EN
BEGIN:VEVENT
DTSTAMP:20190625T195740Z
STATUS:CONFIRMED
UID:sfbay.illiniclub.org601
DTSTART:20250920T233000Z
DTEND:20250921T020000Z
LOCATION:Underdogs Cantina, 128 King St, San Francisco, CA, 94107,
SUMMARY:Football - Illinois vs. Indiana at Sat, Sept 20 4:30 PM @ Underdogs Cantina
DESCRIPTION:
BEGIN:VALARM
TRIGGER:-PT15M
ACTION:DISPLAY
END:VALARM
TRANSP:OPAQUE
END:VEVENT
END:VCALENDAR
