BEGIN:VCALENDAR
VERSION:2.0
PRODID:-//OmniMagnetCalendar//EN
BEGIN:VEVENT
DTSTAMP:20190625T195740Z
STATUS:CONFIRMED
UID:sfbay.illiniclub.org602
DTSTART:20250829T233000Z
DTEND:20250830T034500Z
LOCATION:Underdogs Cantina, 128 King St, San Francisco, CA, 94107,
SUMMARY:Illinois vs. Western Illinois at Fri, Sept 6 9:00 AM @ Underdogs Cantina
DESCRIPTION:
BEGIN:VALARM
TRIGGER:-PT15M
ACTION:DISPLAY
END:VALARM
TRANSP:OPAQUE
END:VEVENT
END:VCALENDAR
