BEGIN:VCALENDAR
VERSION:2.0
PRODID:-//OmniMagnetCalendar//EN
BEGIN:VEVENT
DTSTAMP:20190625T195740Z
STATUS:CONFIRMED
UID:sfbay.illiniclub.org603
DTSTART:20250913T230000Z
DTEND:20250914T030000Z
LOCATION:Bar on Dolores, 1600 Dolores St, San Francisco, CA, 94110,
SUMMARY:Illinois vs. Western Michigan on Sat, Sept 13 4:00 PM PST @ Underdogs Cantina
DESCRIPTION:
BEGIN:VALARM
TRIGGER:-PT15M
ACTION:DISPLAY
END:VALARM
TRANSP:OPAQUE
END:VEVENT
END:VCALENDAR
