BEGIN:VCALENDAR
VERSION:2.0
PRODID:-//OmniMagnetCalendar//EN
BEGIN:VEVENT
DTSTAMP:20190625T195740Z
STATUS:CONFIRMED
UID:sfbay.illiniclub.org611
DTSTART:20251230T220000Z
DTEND:20251231T013000Z
LOCATION:Underdogs Cantina, 128 King St, San Francisco, CA, 94107,
SUMMARY:Football - Illinois vs. Tennessee at Tues, Dec 30 2:30 PM @ Underdogs Cantina
DESCRIPTION:
BEGIN:VALARM
TRIGGER:-PT15M
ACTION:DISPLAY
END:VALARM
TRANSP:OPAQUE
END:VEVENT
END:VCALENDAR
